BEGIN:VCALENDAR
VERSION:2.0
PRODID:-//Mechanics Hall - ECPv6.15.13//NONSGML v1.0//EN
CALSCALE:GREGORIAN
METHOD:PUBLISH
X-WR-CALNAME:Mechanics Hall
X-ORIGINAL-URL:https://mechanicshall.org
X-WR-CALDESC:Events for Mechanics Hall
REFRESH-INTERVAL;VALUE=DURATION:PT1H
X-Robots-Tag:noindex
X-PUBLISHED-TTL:PT1H
BEGIN:VTIMEZONE
TZID:America/New_York
BEGIN:DAYLIGHT
TZOFFSETFROM:-0500
TZOFFSETTO:-0400
TZNAME:EDT
DTSTART:20250309T070000
END:DAYLIGHT
BEGIN:STANDARD
TZOFFSETFROM:-0400
TZOFFSETTO:-0500
TZNAME:EST
DTSTART:20251102T060000
END:STANDARD
BEGIN:DAYLIGHT
TZOFFSETFROM:-0500
TZOFFSETTO:-0400
TZNAME:EDT
DTSTART:20260308T070000
END:DAYLIGHT
BEGIN:STANDARD
TZOFFSETFROM:-0400
TZOFFSETTO:-0500
TZNAME:EST
DTSTART:20261101T060000
END:STANDARD
BEGIN:DAYLIGHT
TZOFFSETFROM:-0500
TZOFFSETTO:-0400
TZNAME:EDT
DTSTART:20270314T070000
END:DAYLIGHT
BEGIN:STANDARD
TZOFFSETFROM:-0400
TZOFFSETTO:-0500
TZNAME:EST
DTSTART:20271107T060000
END:STANDARD
END:VTIMEZONE
BEGIN:VEVENT
DTSTART;TZID=America/New_York:20260422T120000
DTEND;TZID=America/New_York:20260422T130000
DTSTAMP:20260422T085939
CREATED:20260129T180217Z
LAST-MODIFIED:20260311T184147Z
UID:15521-1776859200-1776862800@mechanicshall.org
SUMMARY:The Worcester Organ Performance Series featuring Frédéric Blanc
DESCRIPTION:Artist: Frédéric Blanc\n\nInternationally acclaimed French organist Frédéric Blanc presents a recital highlighting the expressive power and historic sound of the Worcester Organ.A leading interpreter of the French organ tradition\, Blanc is the titular organist of the historic Cavaillé-Coll organ at Notre-Dame d’Auteuil in Paris and a prizewinner of major international organ competitions including the Grand Prix of the City of Paris. \n\n\nWorcester Organ Performance Series\nWednesday\, April 22\, 2026\nDoors Open: 11:30 AM | Performance: 12:00 PM \nMechanics Hall\, Worcester\, MA \nFree Admission  \nLunch is welcome— Bring your own or purchase one at the Hall.\n \nDoors open at 11:30 a.m. \nFor more information about The Worcester Organ\, visit us at www.MechanicsHall.org/the-worcester-organ  
URL:https://mechanicshall.org/event/the-worcester-organ-performance-series/
LOCATION:Mechanics Hall\, 321 Main St\, Worcester\, MA\, 01608\, United States
CATEGORIES:Card to Culture,organ-performance
ATTACH;FMTTYPE=image/png:https://mechanicshall.org/wp-content/uploads/2025/12/frederic-blanc-900-x-500.png
END:VEVENT
END:VCALENDAR