BEGIN:VCALENDAR
VERSION:2.0
PRODID:-//Mechanics Hall - ECPv6.15.13//NONSGML v1.0//EN
CALSCALE:GREGORIAN
METHOD:PUBLISH
X-WR-CALNAME:Mechanics Hall
X-ORIGINAL-URL:https://mechanicshall.org
X-WR-CALDESC:Events for Mechanics Hall
REFRESH-INTERVAL;VALUE=DURATION:PT1H
X-Robots-Tag:noindex
X-PUBLISHED-TTL:PT1H
BEGIN:VTIMEZONE
TZID:America/New_York
BEGIN:DAYLIGHT
TZOFFSETFROM:-0500
TZOFFSETTO:-0400
TZNAME:EDT
DTSTART:20250309T070000
END:DAYLIGHT
BEGIN:STANDARD
TZOFFSETFROM:-0400
TZOFFSETTO:-0500
TZNAME:EST
DTSTART:20251102T060000
END:STANDARD
BEGIN:DAYLIGHT
TZOFFSETFROM:-0500
TZOFFSETTO:-0400
TZNAME:EDT
DTSTART:20260308T070000
END:DAYLIGHT
BEGIN:STANDARD
TZOFFSETFROM:-0400
TZOFFSETTO:-0500
TZNAME:EST
DTSTART:20261101T060000
END:STANDARD
BEGIN:DAYLIGHT
TZOFFSETFROM:-0500
TZOFFSETTO:-0400
TZNAME:EDT
DTSTART:20270314T070000
END:DAYLIGHT
BEGIN:STANDARD
TZOFFSETFROM:-0400
TZOFFSETTO:-0500
TZNAME:EST
DTSTART:20271107T060000
END:STANDARD
END:VTIMEZONE
BEGIN:VEVENT
DTSTART;TZID=America/New_York:20260326T180000
DTEND;TZID=America/New_York:20260326T190000
DTSTAMP:20260422T073401
CREATED:20260305T194911Z
LAST-MODIFIED:20260314T182351Z
UID:15748-1774548000-1774551600@mechanicshall.org
SUMMARY:Candlelight: Tribute to Coldplay
DESCRIPTION:⭐ Candlelight concerts bring the magic of a live\, multi-sensory musical experience like never seen before\, to awe-inspiring locations – now Worcester. Get your tickets now to discover the music of Christmas Classics at Mechanics Hall under the gentle glow of candlelight.\n\n\nImportant Information: \nAccessibility: Accessible seating will be available upon arrival\nDuration: 60 minutes. Doors open 60 minutes before the show and close 5 minutes prior to the start. Late arrivals will not be permitted\nAge requirement: 8 years old or older. Anyone under the age of 16 must be accompanied by an adult \n❓ View the FAQs for this event here \n\n\n\n\n\nTickets can be purchased here\nPlease note that the Balcony is not accessible by elevator.\nFor questions about tickets or about your purchase\,  click here\n\nPlease note: \nThis event is not ticketed by Mechanics Hall. Tickets are not available for purchase at the venue prior to\, or day of the event. All tickets must be purchased through the Fever app or Fever website prior to arriving at the event. For questions about tickets\, seating\, or refunds\, please contact Fever directly. Mechanics Hall staff are unable to assist with ticketing inquiries for this performance.\n \n\nTentative Program \n\n	Clocks\n	Shiver\n	Speed of Sound\n	Trouble\n	Fix You\n	Paradise\n	Something Just Like This\n	Yellow\n	The Scientist\n	feelslikeimfallinginlove\n	A Sky Full of Stars\n\nPerformers \n\n	String Quartet – Listeso – Boston\n\n\nImportant Information: \nAccessibility: Accessible seating will be available upon arrival\nDuration: 60 minutes. Doors open 60 minutes before the show and close 5 minutes prior to the start. Late arrivals will not be permitted\nAge requirement: 8 years old or older. Anyone under the age of 16 must be accompanied by an adult \n❓ View the FAQs for this event here \n\n \nAccessible Entrance\nThe barrier-free entrance to the Hall is located on Waldo Street. Elevators are located in the ground-floor lobby and provide access to the second and third floors. There is no elevator access to the Great Hall balcony. \nAccessible Halls\nAll of our halls are wheelchair-accessible\, where patrons can remain in their wheelchairs or transfer to theater seats. Patrons who cannot or do not wish to transfer from their wheelchairs to a theater seat should request wheelchair-seat locations when ordering tickets.  The Great Hall balcony is not wheel-chair accessible.
URL:https://mechanicshall.org/event/candlelight-tribute-to-coldplay-2/
LOCATION:Mechanics Hall\, 321 Main St\, Worcester\, MA\, 01608\, United States
CATEGORIES:candlelight
ATTACH;FMTTYPE=image/png:https://mechanicshall.org/wp-content/uploads/2025/11/canedlelight.png
END:VEVENT
BEGIN:VEVENT
DTSTART;TZID=America/New_York:20260326T203000
DTEND;TZID=America/New_York:20260326T213000
DTSTAMP:20260422T073402
CREATED:20260305T195125Z
LAST-MODIFIED:20260314T182311Z
UID:15750-1774557000-1774560600@mechanicshall.org
SUMMARY:Candlelight: Long Live the Rock Legends
DESCRIPTION:⭐ Candlelight concerts bring the magic of a live\, multi-sensory musical experience like never seen before\, to awe-inspiring locations – now Worcester. Get your tickets now to discover the music of Christmas Classics at Mechanics Hall under the gentle glow of candlelight.\n\n\n\nImportant Information: \nAccessibility: Accessible seating will be available upon arrival\nDuration: 60 minutes. Doors open 60 minutes before the show and close 5 minutes prior to the start. Late arrivals will not be permitted\nAge requirement: 8 years old or older. Anyone under the age of 16 must be accompanied by an adult \n❓ View the FAQs for this event here \n\n\nTickets can be purchased here\nPlease note that the Balcony is not accessible by elevator.\nFor questions about tickets or about your purchase\,  click here\n\nPlease note: \nThis event is not ticketed by Mechanics Hall. Tickets are not available for purchase at the venue prior to\, or day of the event. All tickets must be purchased through the Fever app or Fever website prior to arriving at the event. For questions about tickets\, seating\, or refunds\, please contact Fever directly. Mechanics Hall staff are unable to assist with ticketing inquiries for this performance.\n \n\nTentative Program \n\n	I Want to Break Free\n	We Will Rock You\n	Somebody to Love\n	Radio Ga Ga\n	Don’t Stop Me Now\n	Killer Queen\n	Crazy Little Thing Called Love\n	Who Wants to Live Forever\n	Bohemian Rhapsody\n	Love of My Life\n	We Are the Champions\n	Another One Bites the Dust\n\nPerformers \n\n	String Quartet – Listeso – Boston\n\n\n \nAccessible Entrance\nThe barrier-free entrance to the Hall is located on Waldo Street. Elevators are located in the ground-floor lobby and provide access to the second and third floors. There is no elevator access to the Great Hall balcony. \nAccessible Halls\nAll of our halls are wheelchair-accessible\, where patrons can remain in their wheelchairs or transfer to theater seats. Patrons who cannot or do not wish to transfer from their wheelchairs to a theater seat should request wheelchair-seat locations when ordering tickets.  The Great Hall balcony is not wheel-chair accessible.
URL:https://mechanicshall.org/event/candlelight-long-live-the-rock-legends/
LOCATION:Mechanics Hall\, 321 Main St\, Worcester\, MA\, 01608\, United States
CATEGORIES:candlelight
ATTACH;FMTTYPE=image/png:https://mechanicshall.org/wp-content/uploads/2025/11/canedlelight.png
END:VEVENT
END:VCALENDAR