BEGIN:VCALENDAR
VERSION:2.0
PRODID:-//Mechanics Hall - ECPv6.15.13//NONSGML v1.0//EN
CALSCALE:GREGORIAN
METHOD:PUBLISH
X-WR-CALNAME:Mechanics Hall
X-ORIGINAL-URL:https://mechanicshall.org
X-WR-CALDESC:Events for Mechanics Hall
REFRESH-INTERVAL;VALUE=DURATION:PT1H
X-Robots-Tag:noindex
X-PUBLISHED-TTL:PT1H
BEGIN:VTIMEZONE
TZID:America/New_York
BEGIN:DAYLIGHT
TZOFFSETFROM:-0500
TZOFFSETTO:-0400
TZNAME:EDT
DTSTART:20250309T070000
END:DAYLIGHT
BEGIN:STANDARD
TZOFFSETFROM:-0400
TZOFFSETTO:-0500
TZNAME:EST
DTSTART:20251102T060000
END:STANDARD
BEGIN:DAYLIGHT
TZOFFSETFROM:-0500
TZOFFSETTO:-0400
TZNAME:EDT
DTSTART:20260308T070000
END:DAYLIGHT
BEGIN:STANDARD
TZOFFSETFROM:-0400
TZOFFSETTO:-0500
TZNAME:EST
DTSTART:20261101T060000
END:STANDARD
BEGIN:DAYLIGHT
TZOFFSETFROM:-0500
TZOFFSETTO:-0400
TZNAME:EDT
DTSTART:20270314T070000
END:DAYLIGHT
BEGIN:STANDARD
TZOFFSETFROM:-0400
TZOFFSETTO:-0500
TZNAME:EST
DTSTART:20271107T060000
END:STANDARD
END:VTIMEZONE
BEGIN:VEVENT
DTSTART;TZID=America/New_York:20260110T190000
DTEND;TZID=America/New_York:20260110T210000
DTSTAMP:20260423T155705
CREATED:20251214T031623Z
LAST-MODIFIED:20251214T031623Z
UID:15225-1768071600-1768078800@mechanicshall.org
SUMMARY:Music Worcester Presents American Spiritual Ensemble
DESCRIPTION:The American Spiritual Ensemble brings to life one of America’s most profound musical traditions\, the American negro spiritual. Performed by world-class vocalists\, these songs tell stories of faith\, resilience\, and the enduring search for freedom\, carrying forward a legacy shaped in the American South and preserved through generations of oral tradition. \nLed by Music Worcester’s 2026 Artist-in-Residence Dr. Everett McCorvey\, the American Spiritual Ensemble has performed worldwide and on some of the most respected stages in classical music. \nJoin Music Worcester for a powerful and deeply moving celebration of this uniquely American sound. \nProgram starts at 7pm \nGeneral Admission\nAdult: $50\nStudent: $20\nYouth (18 & under): $10 \nBuy Tickets
URL:https://mechanicshall.org/event/american-spiritual-ensemble/
LOCATION:Mechanics Hall\, 321 Main St\, Worcester\, MA\, 01608\, United States
ATTACH;FMTTYPE=image/jpeg:https://mechanicshall.org/wp-content/uploads/2025/12/American-Spiritual-Ensemble.jpg
END:VEVENT
BEGIN:VEVENT
DTSTART;TZID=America/New_York:20260111T140000
DTEND;TZID=America/New_York:20260111T140000
DTSTAMP:20260423T155705
CREATED:20251215T165533Z
LAST-MODIFIED:20251222T163849Z
UID:15221-1768140000-1768140000@mechanicshall.org
SUMMARY:Thin Blue Ride Charity Fundraiser
DESCRIPTION:More information coming soon at thinblueride.org/ \n\n \nAccessible Entrance\nThe barrier-free entrance to the Hall is located on Waldo Street. Elevators are located in the ground-floor lobby and provide access to the second and third floors. There is no elevator access to the Great Hall balcony. \nAccessible Halls\nAll of our halls are wheelchair-accessible\, where patrons can remain in their wheelchairs or transfer to theater seats. Patrons who cannot or do not wish to transfer from their wheelchairs to a theater seat should request wheelchair-seat locations when ordering tickets.  The Great Hall balcony is not wheel-chair accessible.
URL:https://mechanicshall.org/event/thin-blue-ride-charity-fundraiser/
LOCATION:Mechanics Hall\, 321 Main St\, Worcester\, MA\, 01608\, United States
ATTACH;FMTTYPE=image/png:https://mechanicshall.org/wp-content/uploads/2025/12/THIN-BLUE-RIDE-LOGO-900-x-500.png
END:VEVENT
BEGIN:VEVENT
DTSTART;TZID=America/New_York:20260117T160000
DTEND;TZID=America/New_York:20260117T160000
DTSTAMP:20260423T155705
CREATED:20251215T170435Z
LAST-MODIFIED:20251222T163745Z
UID:15259-1768665600-1768665600@mechanicshall.org
SUMMARY:MMEA Central District Senior Festival Concert
DESCRIPTION:More information can be found here \nPlease note that tickets must be purchased through the participating student\, and are not available through the Mechanics Hall Box Office.  \n\n \nAccessible Entrance\nThe barrier-free entrance to the Hall is located on Waldo Street. Elevators are located in the ground-floor lobby and provide access to the second and third floors. There is no elevator access to the Great Hall balcony. \nAccessible Halls\nAll of our halls are wheelchair-accessible\, where patrons can remain in their wheelchairs or transfer to theater seats. Patrons who cannot or do not wish to transfer from their wheelchairs to a theater seat should request wheelchair-seat locations when ordering tickets.  The Great Hall balcony is not wheel-chair accessible.
URL:https://mechanicshall.org/event/mmea-central-district-senior-festival-concert/
LOCATION:Mechanics Hall\, 321 Main St\, Worcester\, MA\, 01608\, United States
ATTACH;FMTTYPE=image/png:https://mechanicshall.org/wp-content/uploads/2025/12/mmea-cd-900-x-500.png
END:VEVENT
BEGIN:VEVENT
DTSTART;TZID=America/New_York:20260124T190000
DTEND;TZID=America/New_York:20260124T213000
DTSTAMP:20260423T155705
CREATED:20251214T034016Z
LAST-MODIFIED:20251214T034016Z
UID:15232-1769281200-1769290200@mechanicshall.org
SUMMARY:Music Worcester Presents The Worcester Chorus: Bach Christmas Oratorio
DESCRIPTION:The Worcester Chorus joins the internationally recognized Winchendon Players for a festive performance of Bach’s Christmas Oratorio. Written for chamber orchestra\, chorus\, and soloists\, this exuberant work is a joyful continuation of the holiday season and a rare opportunity to hear The Worcester Chorus shine in another large-scale choral masterpiece. \nThe program also includes Ich habe genug\, one of Bach’s most beloved and frequently performed sacred cantatas. \nLed by Chris Shepard\, The Worcester Chorus is a cornerstone of Music Worcester’s season. Don’t miss this powerful collaboration\, which also includes access to a pre-concert talk by Claire Fontijn. \nMusical program starts at 8pm.  \nSpecial pre-show talk with Wellesley College Professor of Music Claire Fontijn starts at 7 pm. \nPurchase Tickets \nReserved Seating\nAdults $56-$30\nStudent $20\nYouth $10
URL:https://mechanicshall.org/event/music-worcester-presents-the-worcester-chorus-bach-christmas-oratorio/
LOCATION:Mechanics Hall\, 321 Main St\, Worcester\, MA\, 01608\, United States
ATTACH;FMTTYPE=image/jpeg:https://mechanicshall.org/wp-content/uploads/2025/12/worcester_chorus.jpg
END:VEVENT
BEGIN:VEVENT
DTSTART;TZID=America/New_York:20260131T160000
DTEND;TZID=America/New_York:20260131T200000
DTSTAMP:20260423T155705
CREATED:20250829T133802Z
LAST-MODIFIED:20260129T000137Z
UID:14426-1769875200-1769889600@mechanicshall.org
SUMMARY:Banquet of the Dying Daylight
DESCRIPTION:Doors open at 3:00 PM \nWelcome to the realm of Ascena\, home of The Banquet Of The Dying Daylight! Imagine Medieval Times meets Comic Con meets a Renaissance Faire! \n\nIt’s the camaraderie of your best D&D campaign\, the pomp of your local LARP group\, and the vast world of your favorite RPG! \nFood\, wares\, artists\, comedy\, music\, games and appearances from all over the realm! Prizes\, Auctions\, and the costume contest runway extravaganza!  \nShow up in your fantasy banquet best\, or as your favorite fantasy character! But remember – If you want to join the costume contest\, please choose a non-trademarked fantasy race or character. You can be a Human\, Dwarf\, Elf\, Halfling\, Orc\, Goblin\, Gnome\, or a creation of your own!— just not a specific character from movies\, books\, or games. \n \nWhether you be a serf wanting a peek\, townsfolk looking to gorge\, a noble expecting to be wined and dined\, or a royal eager to tower over your subjects – The Banquet Of The Dying Daylight is for YOU!\n \nAll funds raised go to the making of the cozy fantasy feature film Tales Of The Dying Daylight. Help bring a little more magic to the big screen! \n \n  \n\n \nTicket Information \nRoyalty $1000 – VERY Limited Availability!\nThis limited availability VIP experience includes the following: \n\n	Reserved\, premium seating on the Mechanics Hall STAGE!\n\n\n	Seating assignments provided at event check-in\n	Know someone else with a Royalty ticket that you would like to be seated with? Just note that at checkout!\n\n\n	4-Course plated meal\n	20 Raffle Tickets\n	Specialty Goblet\n	Crown & Cape for the event\n	Official judge of costume contest extravaganza\n	Character to appear in the film Tales Of The Dying Daylight\n	Special tour of set for the film Tales Of The Dying Daylight\n	Royal Swag Bag\n	2 drink tickets\n	& Private\, personal service\n\nNobility $500 – Limited Availability!\nThis premium experience includes the following: \n\n	Reserved\, premium\, table seating\n\n\n	Seating assignments provided at event check-in.\n	Know someone else with a Nobility ticket that you would like to be seated with? Just note that at checkout!\n\n\n	4-Course plated meal\n	10 Raffle Tickets\n	Specialty Mug\n	Chance at entry into costume contest\n	Noble Swag Bag\n\nTownsfolk $125\nThis exciting experience includes the following: \n\n	General Admission table seating\n\n\n	Seating assignments provided at event check-in.\n	Know someone else with a Townsfolk ticket that you would like to be seated with? Just note that at checkout!\n\n\n	4-Course plated meal\n	3 Raffle Tickets\n\nSerf $45\nThis experience offers General Admission with no seating.\n Guests may stand and mingle throughout the event — ideal for a more casual experience. \nFood\, drink & raffle tickets will be available for purchase. No food is included. \n\n\n\nBecome a Member TODAY!  \nMechanics Hall Members receive 10% off with your promo code! \n\nMechanics Hall is proud to participate in the Card to Culture program through the Massachusetts Cultural Council.\nLimited number of tickets available\, limit of 2 per order. Only valid on SERF Tickets. Use promo code DYINGDAYLIGHT to redeem. If code does not work\, all tickets have been claimed. For eligibility requirements\, please see Mechanicshall.org/cardtoculture \n\nMechanics Hall & Dreamscape Productions are proud to donate a portion of tickets to this event to Vet Tix. Free tickets available only through Vettix.org\, an organization that provides tickets to events which reduce stress\, strengthen family bonds\, build life-long memories and encourage service members and veterans to stay engaged with local communities and American life. \n\n \nAccessible Entrance\nThe barrier-free entrance to the Hall is located on Waldo Street. Elevators are located in the ground-floor lobby and provide access to the second and third floors. There is no elevator access to the Great Hall balcony. \nAccessible Halls\nAll of our halls are wheelchair-accessible\, where patrons can remain in their wheelchairs or transfer to theater seats. Patrons who cannot or do not wish to transfer from their wheelchairs to a theater seat should request wheelchair-seat locations when ordering tickets.  The Great Hall balcony is not wheel-chair accessible.
URL:https://mechanicshall.org/event/banquet-of-the-dying-daylight/
LOCATION:Mechanics Hall\, 321 Main St\, Worcester\, MA\, 01608\, United States
CATEGORIES:Card to Culture
ATTACH;FMTTYPE=image/png:https://mechanicshall.org/wp-content/uploads/2025/08/BOTDD2.png
END:VEVENT
END:VCALENDAR